BEGIN:VCALENDAR
VERSION:2.0
PRODID:-//Rapport Leadership - ECPv6.15.20//NONSGML v1.0//EN
CALSCALE:GREGORIAN
METHOD:PUBLISH
X-ORIGINAL-URL:https://rapportleadership.com
X-WR-CALDESC:Events for Rapport Leadership
REFRESH-INTERVAL;VALUE=DURATION:PT1H
X-Robots-Tag:noindex
X-PUBLISHED-TTL:PT1H
BEGIN:VTIMEZONE
TZID:UTC
BEGIN:STANDARD
TZOFFSETFROM:+0000
TZOFFSETTO:+0000
TZNAME:UTC
DTSTART:20250101T000000
END:STANDARD
END:VTIMEZONE
BEGIN:VEVENT
DTSTART;VALUE=DATE:20260423
DTEND;VALUE=DATE:20260426
DTSTAMP:20260420T003113
CREATED:20251027T222403Z
LAST-MODIFIED:20260324T205124Z
UID:10000053-1776902400-1777161599@rapportleadership.com
SUMMARY:Power Communication
DESCRIPTION:This immersive\, 2.5-day course is designed to unlock the skills that drive collaboration and influence. Using proven tools like Emergenetics® and real-time coaching\, participants gain a deep understanding of thinking styles\, emotional regulation\, and advanced communication techniques. From navigating high-stress conversations to building trust across teams\, Power Communication helps individuals express themselves with clarity and lead with connection.
URL:https://rapportleadership.com/event/power-communication/
LOCATION:Courtyard Salt Lake City Layton\, 1803 Woodland Park Dr.\, Layton\, UT\, 84041\, United States
CATEGORIES:Power Communication
ATTACH;FMTTYPE=image/jpeg:https://rapportleadership.com/wp-content/uploads/2025/02/AdobeStock_878146139-1-scaled.jpeg
END:VEVENT
END:VCALENDAR